BEGIN:VCALENDAR
VERSION:2.0
PRODID:-//Intand Corporation//Tandem//EN
METHOD:PUBLISH
BEGIN:VEVENT
DTSTAMP:20260424T033155Z
DTSTART:20190910T230000Z
DTEND:20190911T001500Z
TRANSP:TRANSPARENT
PRIORITY:0
SUMMARY:LN Women's Basketball Open Gym
LOCATION:LNHS Fieldhouse (GH HVAC)
DESCRIPTION:Groups:\nLNHS Basketball - Girls JV/Varsity\n\nSchools:\nLiber
 ty North High School\n\nLocation:\nLNHS Fieldhouse (GH HVAC)\n\n
URL;VALUE=URI:http://liberty53.tandem.co/index.php?type=view&action=event&
 id=360197
CREATED:20190820T010015Z
LAST-MODIFIED:20190820T195607Z
UID:event_request-360197-liberty53@intand.com
END:VEVENT
END:VCALENDAR
