BEGIN:VCALENDAR
VERSION:2.0
PRODID:-//Intand Corporation//Tandem//EN
METHOD:PUBLISH
BEGIN:VEVENT
DTSTAMP:20260424T033433Z
DTSTART:20190820T203000Z
DTEND:20190820T223000Z
TRANSP:TRANSPARENT
PRIORITY:0
SUMMARY:LHS Guard Rehearsal
LOCATION:LHS Room 808 Band
DESCRIPTION:Groups:\nLHS Color Guard\n\nSchools:\nLiberty High School\n\nL
 ocation:\nLHS Room 808 Band\n\n
URL;VALUE=URI:http://liberty53.tandem.co/index.php?type=view&action=event&
 id=360194
CREATED:20190820T003615Z
LAST-MODIFIED:20190820T140713Z
UID:event_request-360194-liberty53@intand.com
END:VEVENT
END:VCALENDAR
