BEGIN:VCALENDAR
VERSION:2.0
PRODID:-//Intand Corporation//Tandem//EN
METHOD:PUBLISH
BEGIN:VEVENT
DTSTAMP:20260424T050129Z
DTSTART:20190820T203000Z
DTEND:20190820T230000Z
TRANSP:TRANSPARENT
PRIORITY:0
SUMMARY:LNHS Softball Practice
LOCATION:LNHS Fieldhouse Mezzanine
DESCRIPTION:Groups:\nLNHS Softball - JV/Varsity \n\nSchools:\nLiberty Nort
 h High School\n\nLocation:\nLNHS Fieldhouse Mezzanine\n\n
URL;VALUE=URI:http://liberty53.tandem.co/index.php?type=view&action=event&
 id=360192
CREATED:20190819T222822Z
LAST-MODIFIED:20190820T195607Z
UID:event_request-360192-liberty53@intand.com
END:VEVENT
END:VCALENDAR
