BEGIN:VCALENDAR
VERSION:2.0
PRODID:-//Intand Corporation//Tandem//EN
METHOD:PUBLISH
BEGIN:VEVENT
DTSTAMP:20260424T014912Z
DTSTART:20191213T124500Z
DTEND:20191213T144500Z
TRANSP:TRANSPARENT
PRIORITY:0
SUMMARY: ECC - East Clay Rotary Club Meeting
LOCATION:ECC Fireplace Room
DESCRIPTION:Groups:\nRotary\n\nSchools:\nEarly Childhood Education Center\
 n\nLocation:\nECC Fireplace Room\n\n
URL;VALUE=URI:http://liberty53.tandem.co/index.php?type=view&action=event&
 id=360087
CREATED:20190819T160031Z
LAST-MODIFIED:20190819T160031Z
UID:event-360087-liberty53@intand.com
END:VEVENT
END:VCALENDAR
