BEGIN:VCALENDAR
VERSION:2.0
PRODID:-//Intand Corporation//Tandem//EN
METHOD:PUBLISH
BEGIN:VEVENT
DTSTAMP:20260424T061721Z
DTSTART:20190817T000000Z
DTEND:20190817T045900Z
TRANSP:TRANSPARENT
PRIORITY:0
SUMMARY:LN Football - Navy and Gold Scrimmage
LOCATION:LNHS Fieldhouse (GH HVAC)\, LNHS Aux Gym - 407 (GH HVAC)\, LNHS G
 reat Hall\, LNHS Activity Complex
DESCRIPTION:Groups:\nLNHS Football - Freshman\nLNHS Football - JV\nLNHS Fo
 otball - Sophomore\nLNHS Football - Varsity\n\nSchools:\nLiberty North Hig
 h School\n\nLocations:\nLNHS Fieldhouse (GH HVAC)\nLNHS Aux Gym - 407 (GH 
 HVAC)\nLNHS Great Hall\nLNHS Activity Complex\n\n
URL;VALUE=URI:http://liberty53.tandem.co/index.php?type=view&action=event&
 id=359987
CREATED:20190816T142825Z
LAST-MODIFIED:20190816T142825Z
UID:event-359987-liberty53@intand.com
END:VEVENT
END:VCALENDAR
