BEGIN:VCALENDAR
VERSION:2.0
PRODID:-//Intand Corporation//Tandem//EN
METHOD:PUBLISH
BEGIN:VEVENT
DTSTAMP:20260424T024022Z
DTSTART:20190906T124500Z
DTEND:20190906T133000Z
TRANSP:TRANSPARENT
PRIORITY:0
SUMMARY:LHS-Parent Meeting-Borer
LOCATION:LHS Guidance Conference Room
DESCRIPTION:Groups:\nLHS SPED\n\nSchools:\nLiberty High School\n\nLocation
 :\nLHS Guidance Conference Room\n\n
URL;VALUE=URI:http://liberty53.tandem.co/index.php?type=view&action=event&
 id=359983
CREATED:20190815T182702Z
LAST-MODIFIED:20190819T122754Z
UID:event_request-359983-liberty53@intand.com
END:VEVENT
END:VCALENDAR
