BEGIN:VCALENDAR
VERSION:2.0
PRODID:-//Intand Corporation//Tandem//EN
METHOD:PUBLISH
BEGIN:VEVENT
DTSTAMP:20260424T144124Z
DTSTART:20190925T233000Z
DTEND:20190926T013000Z
TRANSP:TRANSPARENT
PRIORITY:0
SUMMARY:WHE - Amber Meadows HOA Meeting
LOCATION:WHE Cafeteria
DESCRIPTION:Groups:\nAmber Meadows HOA\n\nSchools:\nWarren Hills Elementar
 y\n\nLocation:\nWHE Cafeteria\n\n
URL;VALUE=URI:http://liberty53.tandem.co/index.php?type=view&action=event&
 id=359891
CREATED:20190814T174353Z
LAST-MODIFIED:20190814T174353Z
UID:event-359891-liberty53@intand.com
END:VEVENT
END:VCALENDAR
