BEGIN:VCALENDAR
VERSION:2.0
PRODID:-//Intand Corporation//Tandem//EN
METHOD:PUBLISH
BEGIN:VEVENT
DTSTAMP:20260424T061714Z
DTSTART:20190921T110000Z
DTEND:20190922T020000Z
TRANSP:TRANSPARENT
PRIORITY:0
SUMMARY:LMS 8th Grade Volleyball Tournament
LOCATION:LMS Gym
DESCRIPTION:Groups:\nLMS Volleyball\n\nSchools:\nLiberty Middle School\n\n
 Location:\nLMS Gym\n\n
URL;VALUE=URI:http://liberty53.tandem.co/index.php?type=view&action=event&
 id=359863
CREATED:20190813T214547Z
LAST-MODIFIED:20190815T175624Z
UID:event_request-359863-liberty53@intand.com
END:VEVENT
END:VCALENDAR
