BEGIN:VCALENDAR
VERSION:2.0
PRODID:-//Intand Corporation//Tandem//EN
METHOD:PUBLISH
BEGIN:VEVENT
DTSTAMP:20260424T160958Z
DTSTART:20190902T233100Z
DTEND:20190903T013000Z
TRANSP:TRANSPARENT
PRIORITY:0
SUMMARY:Girls/Boys Basketball Open Gym
LOCATION:LHS Fieldhouse Gym
DESCRIPTION:Groups:\nLHS Boys Basketball\nLHS Girls Basketball\n\nSchools:
 \nLiberty High School\n\nLocation:\nLHS Fieldhouse Gym\n\n
URL;VALUE=URI:http://liberty53.tandem.co/index.php?type=view&action=event&
 id=359813
CREATED:20190813T113607Z
LAST-MODIFIED:20190814T175314Z
UID:event_request-359813-liberty53@intand.com
END:VEVENT
END:VCALENDAR
