BEGIN:VCALENDAR
VERSION:2.0
PRODID:-//Intand Corporation//Tandem//EN
METHOD:PUBLISH
BEGIN:VEVENT
DTSTAMP:20260424T023614Z
DTSTART:20200125T180000Z
DTEND:20200126T000000Z
TRANSP:TRANSPARENT
PRIORITY:0
SUMMARY:SCE - Cub Scout Pack 337 - Pinewood Derby
LOCATION:SCE Great Hall
DESCRIPTION:Groups:\nCub Scout Pack #337\n\nSchools:\nShoal Creek Elementa
 ry\n\nLocation:\nSCE Great Hall\n\n
URL;VALUE=URI:http://liberty53.tandem.co/index.php?type=view&action=event&
 id=359711
CREATED:20190812T190918Z
LAST-MODIFIED:20190812T190918Z
UID:event-359711-liberty53@intand.com
END:VEVENT
END:VCALENDAR
