BEGIN:VCALENDAR
VERSION:2.0
PRODID:-//Intand Corporation//Tandem//EN
METHOD:PUBLISH
BEGIN:VEVENT
DTSTAMP:20260424T014628Z
DTSTART:20200117T200000Z
DTEND:20200118T043000Z
TRANSP:TRANSPARENT
PRIORITY:0
SUMMARY:[Cancelled] LN Speech and Debate tournament
LOCATION:LNHS Room 111\, LNHS Room 109\, LNHS Room 429\, LNHS Room 515\, L
 NHS Room 610E\, LNHS Room 332\, LNHS Room 330\, LNHS Room 326\, LNHS Room 
 324\, LNHS Room 322\, LNHS Room 318\, LNHS Room 934\, LNHS Room 933\, LNHS
  Room 932\, LNHS Room 93
DESCRIPTION:Groups:\nFine Arts\nLNHS Speech / Debate\n\nSchools:\nDistrict
  Administration Center\nLiberty North High School\n\nLocations:\nLNHS Room
  111\nLNHS Room 109\nLNHS Room 429\nLNHS Room 515\nLNHS Room 610E\nLNHS Ro
 om 332\nLNHS Room 330\nLNHS Room 326\nLNHS Room 324\nLNHS Room 322\nLNHS R
 oom 318\nLNHS Room 934\nLNHS Room 933\nLNHS Room 932\nLNHS Room 931\nLNHS 
 Room 930\nLNHS Room 929\nLNHS Room 928\nLNHS Room 927\nLNHS Room 926\nLNHS
  Room 925\nLNHS Room 924\nLNHS Room 923\nLNHS Room 922\nLNHS Room 921\nLNH
 S Room 920\nLNHS Room 919\nLNHS Room 719\nLNHS Room 717\nLNHS Room 712\nLN
 HS Rm 106\nLNHS Room 305 - Broadcast Studio\nLNHS Room 415 - Sports Market
 ing\nLNHS Room 417 - The Eagle Room\nLNHS Room 910\nLNHS Room 806\nLNHS Ro
 om 804\nLNHS Room 803\nLNHS Glass Hallway-Second Floor\nLNHS Glass Hallway
 -First Floor\nLNHS Room 107\nLNHS Room 522\nLNHS Room 524\nLNHS Room 617 V
 M-Large\nLNHS Room 613 VM-Small\nLNHS Great Hall\nLNHS Room 110\nLNHS Room
  904\nLNHS Room 914\nLNHS Room 912\nLNHS Room 907\nLNHS Room 905\nLNHS Roo
 m 707\nLNHS Cafeteria (GH HVAC)\nLNHS Room 607 Black Box Theater\nLNHS Roo
 m 822\nLNHS Room 820\nLNHS Room 817\nLNHS Room 816\nLNHS Room 815\nLNHS Ro
 om 812\nLNHS Room 810\nLNHS Room 808\nLNHS Room 807\nLNHS Room 805\nLNHS R
 oom 510\nLNHS Room 514\nLNHS Room 516\nLNHS Room 520\nLNHS Room 208\nLNHS 
 LMC - 200\nLNHS Room 711\nLNHS Room 609\nLNHS Room 608\nLNHS Room 612 Orch
 estra\nLNHS 929A - PLP\n\n
URL;VALUE=URI:http://liberty53.tandem.co/index.php?type=view&action=event&
 id=359680
CREATED:20190812T184401Z
LAST-MODIFIED:20200117T125722Z
UID:event_request-359680-liberty53@intand.com
END:VEVENT
END:VCALENDAR
