BEGIN:VCALENDAR
VERSION:2.0
PRODID:-//Intand Corporation//Tandem//EN
METHOD:PUBLISH
BEGIN:VEVENT
DTSTAMP:20260424T054046Z
DTSTART:20190812T210000Z
DTEND:20190813T010000Z
TRANSP:TRANSPARENT
PRIORITY:0
SUMMARY:LNHS Football Practice
LOCATION:LNHS FB Practice Field  - East\, LNHS FB Practice Field - West\, 
 LNHS Activity Complex
DESCRIPTION:Groups:\nLNHS Football - Varsity\n\nSchools:\nLiberty North Hi
 gh School\n\nLocations:\nLNHS FB Practice Field  - East\nLNHS FB Practice 
 Field - West\nLNHS Activity Complex\n\n
URL;VALUE=URI:http://liberty53.tandem.co/index.php?type=view&action=event&
 id=359499
CREATED:20190811T185314Z
LAST-MODIFIED:20190812T200354Z
UID:event_request-359499-liberty53@intand.com
END:VEVENT
END:VCALENDAR
