BEGIN:VCALENDAR
VERSION:2.0
PRODID:-//Intand Corporation//Tandem//EN
METHOD:PUBLISH
BEGIN:VEVENT
DTSTAMP:20260424T033551Z
DTSTART:20191110T200000Z
DTEND:20191110T220000Z
TRANSP:TRANSPARENT
PRIORITY:0
SUMMARY:LHS - Liberty Warriors Basketball (T. Anderson)
LOCATION:LHS Fieldhouse Gym
DESCRIPTION:Groups:\nLiberty Warriors Basketball\n\nSchools:\nLiberty High
  School\n\nLocation:\nLHS Fieldhouse Gym\n\n
URL;VALUE=URI:http://liberty53.tandem.co/index.php?type=view&action=event&
 id=359375
CREATED:20190810T155849Z
LAST-MODIFIED:20190917T193053Z
UID:event-359375-liberty53@intand.com
END:VEVENT
END:VCALENDAR
