BEGIN:VCALENDAR
VERSION:2.0
PRODID:-//Intand Corporation//Tandem//EN
METHOD:PUBLISH
BEGIN:VEVENT
DTSTAMP:20260424T031316Z
DTSTART:20190821T223000Z
DTEND:20190822T010000Z
TRANSP:TRANSPARENT
PRIORITY:0
SUMMARY:Pre-Season Volleyball Dinner
LOCATION:LHS Cafeteria
DESCRIPTION:Groups:\nLHS Volleyball Freshman\nLHS Volleyball JV/Varsity\nL
 HS Volleyball Parents\n\nSchools:\nLiberty High School\n\nLocation:\nLHS C
 afeteria\n\n
URL;VALUE=URI:http://liberty53.tandem.co/index.php?type=view&action=event&
 id=359367
CREATED:20190810T154843Z
LAST-MODIFIED:20190812T182828Z
UID:event_request-359367-liberty53@intand.com
END:VEVENT
END:VCALENDAR
