BEGIN:VCALENDAR
VERSION:2.0
PRODID:-//Intand Corporation//Tandem//EN
METHOD:PUBLISH
BEGIN:VEVENT
DTSTAMP:20260424T053600Z
DTSTART:20191024T000000Z
DTEND:20191024T010000Z
TRANSP:TRANSPARENT
PRIORITY:0
SUMMARY:[Cancelled] LO - KC Process Basketball
LOCATION:LOE Gym
DESCRIPTION:Groups:\nKC Process\n\nSchools:\nLiberty Oaks Elementary\n\nLo
 cation:\nLOE Gym\n\n
URL;VALUE=URI:http://liberty53.tandem.co/index.php?type=view&action=event&
 id=359228
CREATED:20190808T183014Z
LAST-MODIFIED:20190808T183032Z
UID:event-359228-liberty53@intand.com
END:VEVENT
END:VCALENDAR
