BEGIN:VCALENDAR
VERSION:2.0
PRODID:-//Intand Corporation//Tandem//EN
METHOD:PUBLISH
BEGIN:VEVENT
DTSTAMP:20260424T043754Z
DTSTART:20191029T195000Z
DTEND:20191029T205000Z
TRANSP:TRANSPARENT
PRIORITY:0
SUMMARY:LO - Mad Science - Hand on Science Workshops
LOCATION:LOE 100 Commons
DESCRIPTION:Groups:\nMad Science\n\nSchools:\nLiberty Oaks Elementary\n\nL
 ocation:\nLOE 100 Commons\n\n
URL;VALUE=URI:http://liberty53.tandem.co/index.php?type=view&action=event&
 id=359150
CREATED:20190807T183801Z
LAST-MODIFIED:20190807T183801Z
UID:event-359150-liberty53@intand.com
END:VEVENT
END:VCALENDAR
