BEGIN:VCALENDAR
VERSION:2.0
PRODID:-//Intand Corporation//Tandem//EN
METHOD:PUBLISH
BEGIN:VEVENT
DTSTAMP:20260424T061639Z
DTSTART:20190905T000000Z
DTEND:20190905T010000Z
TRANSP:TRANSPARENT
PRIORITY:0
SUMMARY:SC - Cub Scout Recruitment Night
LOCATION:SCE Great Hall
DESCRIPTION:Groups:\nBoy Scout of America\n\nSchools:\nShoal Creek Element
 ary\n\nLocation:\nSCE Great Hall\n\n
URL;VALUE=URI:http://liberty53.tandem.co/index.php?type=view&action=event&
 id=359126
CREATED:20190807T163359Z
LAST-MODIFIED:20190812T183805Z
UID:event-359126-liberty53@intand.com
END:VEVENT
END:VCALENDAR
