BEGIN:VCALENDAR
VERSION:2.0
PRODID:-//Intand Corporation//Tandem//EN
METHOD:PUBLISH
BEGIN:VEVENT
DTSTAMP:20260424T061831Z
DTSTART:20191214T160000Z
DTEND:20191214T180000Z
TRANSP:TRANSPARENT
PRIORITY:0
SUMMARY:PTA Santa Day - Cafeteria & Gym - 10:00 am - 12:00 pm
LOCATION:WHE Gym\, WHE Cafeteria
DESCRIPTION:Warren Hills PTA Santa Day in the gym/cafeteria from 10:00 - 1
 2:00 pm\n\nGroups:\nWHE PTA\nWHE Parent\nWHE Staff\n\nSchools:\nWarren Hil
 ls Elementary\n\nLocations:\nWHE Gym\nWHE Cafeteria\n\n
URL;VALUE=URI:http://liberty53.tandem.co/index.php?type=view&action=event&
 id=359017
CREATED:20190806T022403Z
LAST-MODIFIED:20191211T212954Z
UID:event-359017-liberty53@intand.com
END:VEVENT
END:VCALENDAR
