BEGIN:VCALENDAR
VERSION:2.0
PRODID:-//Intand Corporation//Tandem//EN
METHOD:PUBLISH
BEGIN:VEVENT
DTSTAMP:20260424T040933Z
DTSTART:20191229T210000Z
DTEND:20191229T230000Z
TRANSP:TRANSPARENT
PRIORITY:0
SUMMARY:HMS - International Soccer Club (Thompson)
LOCATION:HMS Turf Field
DESCRIPTION:Groups:\nInternational Soccer Club\n\nSchools:\nHeritage Middl
 e School\n\nLocation:\nHMS Turf Field\n\n
URL;VALUE=URI:http://liberty53.tandem.co/index.php?type=view&action=event&
 id=358872
CREATED:20190805T191951Z
LAST-MODIFIED:20190805T192430Z
UID:event-358872-liberty53@intand.com
END:VEVENT
END:VCALENDAR
