BEGIN:VCALENDAR
VERSION:2.0
PRODID:-//Intand Corporation//Tandem//EN
METHOD:PUBLISH
BEGIN:VEVENT
DTSTAMP:20260424T034924Z
DTSTART:20191024T230000Z
DTEND:20191025T010000Z
TRANSP:TRANSPARENT
PRIORITY:0
SUMMARY:[Cancelled] LO - Bombers Softball (Michaelsen/Davis)
LOCATION:LOE Baseball Field
DESCRIPTION:Groups:\nBombers Softball\n\nSchools:\nLiberty Oaks Elementary
 \n\nLocation:\nLOE Baseball Field\n\n
URL;VALUE=URI:http://liberty53.tandem.co/index.php?type=view&action=event&
 id=358736
CREATED:20190805T174626Z
LAST-MODIFIED:20190828T125120Z
UID:event-358736-liberty53@intand.com
END:VEVENT
END:VCALENDAR
