BEGIN:VCALENDAR
VERSION:2.0
PRODID:-//Intand Corporation//Tandem//EN
METHOD:PUBLISH
BEGIN:VEVENT
DTSTAMP:20260424T023529Z
DTSTART:20190813T210000Z
DTEND:20190814T010000Z
TRANSP:TRANSPARENT
PRIORITY:0
SUMMARY:LNFB Practice
LOCATION:LNHS FB Practice Field  - East\, LNHS FB Practice Field - West\, 
 LNHS Activity Complex
DESCRIPTION:Groups:\nLNHS Football - Varsity\n\nSchools:\nLiberty North Hi
 gh School\n\nLocations:\nLNHS FB Practice Field  - East\nLNHS FB Practice 
 Field - West\nLNHS Activity Complex\n\n
URL;VALUE=URI:http://liberty53.tandem.co/index.php?type=view&action=event&
 id=358671
CREATED:20190804T184938Z
LAST-MODIFIED:20190806T140742Z
UID:event_request-358671-liberty53@intand.com
END:VEVENT
END:VCALENDAR
