BEGIN:VCALENDAR
VERSION:2.0
PRODID:-//Intand Corporation//Tandem//EN
METHOD:PUBLISH
BEGIN:VEVENT
DTSTAMP:20260424T073756Z
DTSTART:20190809T143000Z
DTEND:20190809T160000Z
TRANSP:TRANSPARENT
PRIORITY:0
SUMMARY:Fine Arts Help Sessions
LOCATION:LNHS Room 612 Orchestra
DESCRIPTION:Groups:\nFine Arts\n\nSchools:\nDistrict Administration Center
 \nLiberty North High School\n\nLocation:\nLNHS Room 612 Orchestra\n\n
URL;VALUE=URI:http://liberty53.tandem.co/index.php?type=view&action=event&
 id=358648
CREATED:20190801T213626Z
LAST-MODIFIED:20190801T213626Z
UID:event-358648-liberty53@intand.com
END:VEVENT
END:VCALENDAR
