BEGIN:VCALENDAR
VERSION:2.0
PRODID:-//Intand Corporation//Tandem//EN
METHOD:PUBLISH
BEGIN:VEVENT
DTSTAMP:20260424T050107Z
DTSTART:20190916T203000Z
DTEND:20190916T213000Z
TRANSP:TRANSPARENT
PRIORITY:0
SUMMARY:SC - Bricks 4 Kidz - STEM Enrichment Class
LOCATION:SCE Library
DESCRIPTION:Groups:\nBricks 4 Kidz\n\nSchools:\nShoal Creek Elementary\n\n
 Location:\nSCE Library\n\n
URL;VALUE=URI:http://liberty53.tandem.co/index.php?type=view&action=event&
 id=358643
CREATED:20190801T203254Z
LAST-MODIFIED:20190821T164317Z
UID:event-358643-liberty53@intand.com
END:VEVENT
END:VCALENDAR
