BEGIN:VCALENDAR
VERSION:2.0
PRODID:-//Intand Corporation//Tandem//EN
METHOD:PUBLISH
BEGIN:VEVENT
DTSTAMP:20260424T043452Z
DTSTART:20191023T204500Z
DTEND:20191023T214500Z
TRANSP:TRANSPARENT
PRIORITY:0
SUMMARY:[Cancelled] LC - Young Rembrandts - Fall Session 
LOCATION:LCE Commons
DESCRIPTION:Groups:\nYoung Rembrandt's Art Enrichment\n\nSchools:\nLewis A
 nd Clark Elementary\n\nLocation:\nLCE Commons\n\n
URL;VALUE=URI:http://liberty53.tandem.co/index.php?type=view&action=event&
 id=358592
CREATED:20190801T200517Z
LAST-MODIFIED:20191018T123921Z
UID:event-358592-liberty53@intand.com
END:VEVENT
END:VCALENDAR
