BEGIN:VCALENDAR
VERSION:2.0
PRODID:-//Intand Corporation//Tandem//EN
METHOD:PUBLISH
BEGIN:VEVENT
DTSTAMP:20260424T043658Z
DTSTART:20191013T230000Z
DTEND:20191014T010000Z
TRANSP:TRANSPARENT
PRIORITY:0
SUMMARY:LHS Varsity Sapphire Practice
LOCATION:LHS Fieldhouse Gym
DESCRIPTION:Groups:\nLHS Sapphires Varsity\n\nSchools:\nLiberty High Schoo
 l\n\nLocation:\nLHS Fieldhouse Gym\n\n
URL;VALUE=URI:http://liberty53.tandem.co/index.php?type=view&action=event&
 id=358387
CREATED:20190731T130914Z
LAST-MODIFIED:20190917T121809Z
UID:event_request-358387-liberty53@intand.com
END:VEVENT
END:VCALENDAR
