BEGIN:VCALENDAR
VERSION:2.0
PRODID:-//Intand Corporation//Tandem//EN
METHOD:PUBLISH
BEGIN:VEVENT
DTSTAMP:20260424T040931Z
DTSTART:20200229T140000Z
DTEND:20200301T020000Z
TRANSP:TRANSPARENT
PRIORITY:0
SUMMARY:LS - Parks & Rec - Spring Soccer/Flag Football
LOCATION:LSE Soccer Field
DESCRIPTION:Groups:\nLiberty Parks & Rec Soccer\n\nSchools:\nLillian Schum
 acher Elementary\n\nLocation:\nLSE Soccer Field\n\n
URL;VALUE=URI:http://liberty53.tandem.co/index.php?type=view&action=event&
 id=356577
CREATED:20190724T160908Z
LAST-MODIFIED:20190724T160908Z
UID:event-356577-liberty53@intand.com
END:VEVENT
END:VCALENDAR
