BEGIN:VCALENDAR
VERSION:2.0
PRODID:-//Intand Corporation//Tandem//EN
METHOD:PUBLISH
BEGIN:VEVENT
DTSTAMP:20260424T023644Z
DTSTART:20200121T010000Z
DTEND:20200121T040000Z
TRANSP:TRANSPARENT
PRIORITY:0
SUMMARY:[Cancelled] DMS - Parks & Rec - Youth Basketball
LOCATION:DMS Gym
DESCRIPTION:Groups:\nLiberty Parks & Rec Basketball\n\nSchools:\nDiscovery
  Middle School\n\nLocation:\nDMS Gym\n\n
URL;VALUE=URI:http://liberty53.tandem.co/index.php?type=view&action=event&
 id=356003
CREATED:20190724T141129Z
LAST-MODIFIED:20190724T141656Z
UID:event-356003-liberty53@intand.com
END:VEVENT
END:VCALENDAR
