BEGIN:VCALENDAR
VERSION:2.0
PRODID:-//Intand Corporation//Tandem//EN
METHOD:PUBLISH
BEGIN:VEVENT
DTSTAMP:20260424T061821Z
DTSTART:20200110T000000Z
DTEND:20200110T040000Z
TRANSP:TRANSPARENT
PRIORITY:0
SUMMARY:SC - Parks & Rec - Youth Basketball
LOCATION:SCE Gym
DESCRIPTION:Groups:\nLiberty Parks & Rec Basketball\n\nSchools:\nShoal Cre
 ek Elementary\n\nLocation:\nSCE Gym\n\n
URL;VALUE=URI:http://liberty53.tandem.co/index.php?type=view&action=event&
 id=355781
CREATED:20190723T203356Z
LAST-MODIFIED:20191220T162613Z
UID:event-355781-liberty53@intand.com
END:VEVENT
END:VCALENDAR
