BEGIN:VCALENDAR
VERSION:2.0
PRODID:-//Intand Corporation//Tandem//EN
METHOD:PUBLISH
BEGIN:VEVENT
DTSTAMP:20260424T050226Z
DTSTART:20200103T000000Z
DTEND:20200103T040000Z
TRANSP:TRANSPARENT
PRIORITY:0
SUMMARY:[Cancelled] WH - Parks & Rec - Youth Basketball
LOCATION:WHE Gym
DESCRIPTION:Groups:\nLiberty Parks & Rec Basketball\n\nSchools:\nWarren Hi
 lls Elementary\n\nLocation:\nWHE Gym\n\n
URL;VALUE=URI:http://liberty53.tandem.co/index.php?type=view&action=event&
 id=355776
CREATED:20190723T203356Z
LAST-MODIFIED:20191115T161955Z
UID:event-355776-liberty53@intand.com
END:VEVENT
END:VCALENDAR
