BEGIN:VCALENDAR
VERSION:2.0
PRODID:-//Intand Corporation//Tandem//EN
METHOD:PUBLISH
BEGIN:VEVENT
DTSTAMP:20260424T061349Z
DTSTART:20200121T003000Z
DTEND:20200121T040000Z
TRANSP:TRANSPARENT
PRIORITY:0
SUMMARY:[Cancelled] SVMS - Parks & Rec - Adult Volleyball
LOCATION:SVMS Gym
DESCRIPTION:Groups:\nLiberty Parks & Rec Volleyball\n\nSchools:\nSouth Val
 ley Middle School\n\nLocation:\nSVMS Gym\n\n
URL;VALUE=URI:http://liberty53.tandem.co/index.php?type=view&action=event&
 id=354817
CREATED:20190723T173152Z
LAST-MODIFIED:20200117T155624Z
UID:event-354817-liberty53@intand.com
END:VEVENT
END:VCALENDAR
