BEGIN:VCALENDAR
VERSION:2.0
PRODID:-//Intand Corporation//Tandem//EN
METHOD:PUBLISH
BEGIN:VEVENT
DTSTAMP:20260424T160959Z
DTSTART:20200114T003000Z
DTEND:20200114T040000Z
TRANSP:TRANSPARENT
PRIORITY:0
SUMMARY:SVMS - Parks & Rec - Adult Volleyball
LOCATION:SVMS Gym
DESCRIPTION:Groups:\nLiberty Parks & Rec Volleyball\n\nSchools:\nSouth Val
 ley Middle School\n\nLocation:\nSVMS Gym\n\n
URL;VALUE=URI:http://liberty53.tandem.co/index.php?type=view&action=event&
 id=354815
CREATED:20190723T173152Z
LAST-MODIFIED:20190723T173152Z
UID:event-354815-liberty53@intand.com
END:VEVENT
END:VCALENDAR
