BEGIN:VCALENDAR
VERSION:2.0
PRODID:-//Intand Corporation//Tandem//EN
METHOD:PUBLISH
BEGIN:VEVENT
DTSTAMP:20260424T014602Z
DTSTART:20191021T230000Z
DTEND:20191022T030000Z
TRANSP:TRANSPARENT
PRIORITY:0
SUMMARY:[Cancelled] LMS - Parks & Rec - Fall Baseball/Softball
LOCATION:LMS Baseball Field\, LMS Baseball Field 2
DESCRIPTION:Groups:\nLiberty Parks & Rec Baseball\n\nSchools:\nLiberty Mid
 dle School\n\nLocations:\nLMS Baseball Field\nLMS Baseball Field 2\n\n
URL;VALUE=URI:http://liberty53.tandem.co/index.php?type=view&action=event&
 id=354500
CREATED:20190723T161146Z
LAST-MODIFIED:20190723T161226Z
UID:event-354500-liberty53@intand.com
END:VEVENT
END:VCALENDAR
