BEGIN:VCALENDAR
VERSION:2.0
PRODID:-//Intand Corporation//Tandem//EN
METHOD:PUBLISH
BEGIN:VEVENT
DTSTAMP:20260424T023357Z
DTSTART:20190912T230000Z
DTEND:20190913T023000Z
TRANSP:TRANSPARENT
PRIORITY:0
SUMMARY:WH - Parks & Rec - Fall Soccer/Flag Football
LOCATION:WHE Soccer Field
DESCRIPTION:Groups:\nLiberty Parks & Rec Soccer\n\nSchools:\nWarren Hills 
 Elementary\n\nLocation:\nWHE Soccer Field\n\n
URL;VALUE=URI:http://liberty53.tandem.co/index.php?type=view&action=event&
 id=354055
CREATED:20190723T150047Z
LAST-MODIFIED:20190723T150047Z
UID:event-354055-liberty53@intand.com
END:VEVENT
END:VCALENDAR
