BEGIN:VCALENDAR
VERSION:2.0
PRODID:-//Intand Corporation//Tandem//EN
METHOD:PUBLISH
BEGIN:VEVENT
DTSTAMP:20260424T144224Z
DTSTART:20190829T230000Z
DTEND:20190830T023000Z
TRANSP:TRANSPARENT
PRIORITY:0
SUMMARY:[Cancelled] RV - Parks & Rec - Fall Soccer/Flag Football
LOCATION:RE Soccer Field
DESCRIPTION:Groups:\nLiberty Parks & Rec Soccer\n\nSchools:\nRidgeview Ele
 mentary\n\nLocation:\nRE Soccer Field\n\n
URL;VALUE=URI:http://liberty53.tandem.co/index.php?type=view&action=event&
 id=353917
CREATED:20190723T144553Z
LAST-MODIFIED:20190723T144612Z
UID:event-353917-liberty53@intand.com
END:VEVENT
END:VCALENDAR
