BEGIN:VCALENDAR
VERSION:2.0
PRODID:-//Intand Corporation//Tandem//EN
METHOD:PUBLISH
BEGIN:VEVENT
DTSTAMP:20260424T061730Z
DTSTART:20191021T230000Z
DTEND:20191022T023000Z
TRANSP:TRANSPARENT
PRIORITY:0
SUMMARY:[Cancelled] LS - Parks & Rec - Fall Soccer/Flag Football
LOCATION:LSE Soccer Field
DESCRIPTION:Groups:\nLiberty Parks & Rec Soccer\n\nSchools:\nLillian Schum
 acher Elementary\n\nLocation:\nLSE Soccer Field\n\n
URL;VALUE=URI:http://liberty53.tandem.co/index.php?type=view&action=event&
 id=353826
CREATED:20190723T143228Z
LAST-MODIFIED:20190723T152437Z
UID:event-353826-liberty53@intand.com
END:VEVENT
END:VCALENDAR
