BEGIN:VCALENDAR
VERSION:2.0
PRODID:-//Intand Corporation//Tandem//EN
METHOD:PUBLISH
BEGIN:VEVENT
DTSTAMP:20260424T014907Z
DTSTART:20190817T180000Z
DTEND:20190817T200000Z
TRANSP:TRANSPARENT
PRIORITY:0
SUMMARY:LNVB Parent Meeting
LOCATION:LNHS Cafeteria (GH HVAC)
DESCRIPTION:Schools:\nLiberty North High School\n\nLocation:\nLNHS Cafeter
 ia (GH HVAC)\n\n
URL;VALUE=URI:http://liberty53.tandem.co/index.php?type=view&action=event&
 id=353154
CREATED:20190715T145610Z
LAST-MODIFIED:20190716T130835Z
UID:event_request-353154-liberty53@intand.com
END:VEVENT
END:VCALENDAR
