BEGIN:VCALENDAR
VERSION:2.0
PRODID:-//Intand Corporation//Tandem//EN
METHOD:PUBLISH
BEGIN:VEVENT
DTSTAMP:20260424T053319Z
DTSTART:20191024T203000Z
DTEND:20191024T223000Z
TRANSP:TRANSPARENT
PRIORITY:0
SUMMARY:LN CC Practice
LOCATION:LNHS Room 415 - Sports Marketing\, LNHS Track\, LNHS Room 107
DESCRIPTION:Groups:\nLNHS Cross Country\n\nSchools:\nLiberty North High Sc
 hool\n\nLocations:\nLNHS Room 415 - Sports Marketing\nLNHS Track\nLNHS Roo
 m 107\n\n
URL;VALUE=URI:http://liberty53.tandem.co/index.php?type=view&action=event&
 id=353069
CREATED:20190714T155411Z
LAST-MODIFIED:20190715T120410Z
UID:event_request-353069-liberty53@intand.com
END:VEVENT
END:VCALENDAR
