BEGIN:VCALENDAR
VERSION:2.0
PRODID:-//Intand Corporation//Tandem//EN
METHOD:PUBLISH
BEGIN:VEVENT
DTSTAMP:20260424T050115Z
DTSTART:20190801T120000Z
DTEND:20190801T140000Z
TRANSP:TRANSPARENT
PRIORITY:0
SUMMARY:Nutrition Training in Scramble Area
LOCATION:LNHS Cafeteria (GH HVAC)
DESCRIPTION:Groups:\nNutrition Services\n\nSchools:\nDistrict Administrati
 on Center\nLiberty North High School\n\nLocation:\nLNHS Cafeteria (GH HVAC
 )\n\n
URL;VALUE=URI:http://liberty53.tandem.co/index.php?type=view&action=event&
 id=353024
CREATED:20190712T162008Z
LAST-MODIFIED:20190713T020034Z
UID:event_request-353024-liberty53@intand.com
END:VEVENT
END:VCALENDAR
