BEGIN:VCALENDAR
VERSION:2.0
PRODID:-//Intand Corporation//Tandem//EN
METHOD:PUBLISH
BEGIN:VEVENT
DTSTAMP:20260424T023929Z
DTSTART:20200121T003000Z
DTEND:20200121T023000Z
TRANSP:TRANSPARENT
PRIORITY:0
SUMMARY:LN Club Practice
LOCATION:HMS South Gym
DESCRIPTION:Schools:\nHeritage Middle School\nLiberty North High School\n\
 nLocation:\nHMS South Gym\n\n
URL;VALUE=URI:http://liberty53.tandem.co/index.php?type=view&action=event&
 id=352786
CREATED:20190711T143800Z
LAST-MODIFIED:20190924T151330Z
UID:event_request-352786-liberty53@intand.com
END:VEVENT
END:VCALENDAR
