BEGIN:VCALENDAR
VERSION:2.0
PRODID:-//Intand Corporation//Tandem//EN
METHOD:PUBLISH
BEGIN:VEVENT
DTSTAMP:20260424T014453Z
DTSTART:20190809T120000Z
DTEND:20190809T163000Z
TRANSP:TRANSPARENT
PRIORITY:0
SUMMARY:DMS- Nutrition Services Meeting
LOCATION:DMS Cafeteria
DESCRIPTION:This will have the same set up as the All Staff Nutrition Serv
 ices meeting on August 2nd. See Debra Caudill for questions.\n\nGroups:\nD
 MS Administrative Assistants\n\nSchools:\nDiscovery Middle School\n\nLocat
 ion:\nDMS Cafeteria\n\nContacts:\nDebbie Caudill\n\n
URL;VALUE=URI:http://liberty53.tandem.co/index.php?type=view&action=event&
 id=352009
CREATED:20190708T154120Z
LAST-MODIFIED:20190709T010938Z
UID:event_request-352009-liberty53@intand.com
END:VEVENT
END:VCALENDAR
