BEGIN:VCALENDAR
VERSION:2.0
PRODID:-//Intand Corporation//Tandem//EN
METHOD:PUBLISH
BEGIN:VEVENT
DTSTAMP:20260424T014610Z
DTSTART:20190725T000000Z
DTEND:20190725T020000Z
TRANSP:TRANSPARENT
PRIORITY:0
SUMMARY:LNHS wsoc scrimmage 
LOCATION:LNHS Activity Complex
DESCRIPTION:Groups:\nLNHS Athletics\n\nSchools:\nLiberty North High School
 \n\nLocation:\nLNHS Activity Complex\n\n
URL;VALUE=URI:http://liberty53.tandem.co/index.php?type=view&action=event&
 id=351987
CREATED:20190707T175303Z
LAST-MODIFIED:20190708T164732Z
UID:event_request-351987-liberty53@intand.com
END:VEVENT
END:VCALENDAR
