BEGIN:VCALENDAR
VERSION:2.0
PRODID:-//Intand Corporation//Tandem//EN
METHOD:PUBLISH
BEGIN:VEVENT
DTSTAMP:20260424T074014Z
DTSTART:20191009T000000Z
DTEND:20191009T013000Z
TRANSP:TRANSPARENT
PRIORITY:0
SUMMARY:LNHS Pit Orchestra Rehearsal
LOCATION:LNHS Room 616 Band
DESCRIPTION:Groups:\nLNHS Band\n\nSchools:\nLiberty North High School\n\nL
 ocation:\nLNHS Room 616 Band\n\n
URL;VALUE=URI:http://liberty53.tandem.co/index.php?type=view&action=event&
 id=351616
CREATED:20190630T001253Z
LAST-MODIFIED:20190701T135517Z
UID:event_request-351616-liberty53@intand.com
END:VEVENT
END:VCALENDAR
