BEGIN:VCALENDAR
VERSION:2.0
PRODID:-//Intand Corporation//Tandem//EN
METHOD:PUBLISH
BEGIN:VEVENT
DTSTAMP:20260424T162258Z
DTSTART:20191202T230000Z
DTEND:20191203T013000Z
TRANSP:TRANSPARENT
PRIORITY:0
SUMMARY:LHS- C G/S GBB Home vs Park Hill
LOCATION:LHS Cokely Gym
DESCRIPTION:Groups:\nLHS Girls Basketball Freshman\n\nSchools:\nLiberty Hi
 gh School\n\nLocation:\nLHS Cokely Gym\n\n
URL;VALUE=URI:http://liberty53.tandem.co/index.php?type=view&action=event&
 id=350837
CREATED:20190627T122306Z
LAST-MODIFIED:20190627T122306Z
UID:event-350837-liberty53@intand.com
END:VEVENT
END:VCALENDAR
