BEGIN:VCALENDAR
VERSION:2.0
PRODID:-//Intand Corporation//Tandem//EN
METHOD:PUBLISH
BEGIN:VEVENT
DTSTAMP:20260424T043646Z
DTSTART:20200121T214500Z
DTEND:20200122T000000Z
TRANSP:TRANSPARENT
PRIORITY:0
SUMMARY:SC - Kid's Zone PM
LOCATION:SCE Cafeteria\, SCE Gym
DESCRIPTION:Groups:\nKid's Zone Program\n\nSchools:\nShoal Creek Elementar
 y\n\nLocations:\nSCE Cafeteria\nSCE Gym\n\n
URL;VALUE=URI:http://liberty53.tandem.co/index.php?type=view&action=event&
 id=350328
CREATED:20190626T190809Z
LAST-MODIFIED:20190905T200930Z
UID:event_request-350328-liberty53@intand.com
END:VEVENT
END:VCALENDAR
