BEGIN:VCALENDAR
VERSION:2.0
PRODID:-//Intand Corporation//Tandem//EN
METHOD:PUBLISH
BEGIN:VEVENT
DTSTAMP:20260424T023630Z
DTSTART:20200227T221000Z
DTEND:20200228T000000Z
TRANSP:TRANSPARENT
PRIORITY:0
SUMMARY:LS - Kid's Zone PM/LMS\, DMS Winter Guard Rehearsal
LOCATION:LSE Cafeteria\, LSE Gym
DESCRIPTION:Groups:\nKid's Zone Program\nDMS Winter Guard\nLMS Winter Guar
 d\n\nSchools:\nLillian Schumacher Elementary\nDiscovery Middle School\nLib
 erty Middle School\n\nLocations:\nLSE Cafeteria\nLSE Gym\n\n
URL;VALUE=URI:http://liberty53.tandem.co/index.php?type=view&action=event&
 id=349949
CREATED:20190626T184830Z
LAST-MODIFIED:20191210T221557Z
UID:event_request-349949-liberty53@intand.com
END:VEVENT
END:VCALENDAR
