BEGIN:VCALENDAR
VERSION:2.0
PRODID:-//Intand Corporation//Tandem//EN
METHOD:PUBLISH
BEGIN:VEVENT
DTSTAMP:20260424T023805Z
DTSTART:20200124T210000Z
DTEND:20200125T040000Z
TRANSP:TRANSPARENT
PRIORITY:0
SUMMARY:LHS-C W Stessman Basketball Trn
LOCATION:LHS Hall of Fame Room\, LHS Aerobics Room\, LHS FH Concession Roo
 m\, LHS Fieldhouse Gym
DESCRIPTION:Groups:\nLHS Boys Basketball Varsity\n\nSchools:\nLiberty High
  School\n\nLocations:\nLHS Hall of Fame Room\nLHS Aerobics Room\nLHS FH Co
 ncession Room\nLHS Fieldhouse Gym\n\n
URL;VALUE=URI:http://liberty53.tandem.co/index.php?type=view&action=event&
 id=348875
CREATED:20190626T170357Z
LAST-MODIFIED:20200121T155810Z
UID:event-348875-liberty53@intand.com
END:VEVENT
END:VCALENDAR
