BEGIN:VCALENDAR
VERSION:2.0
PRODID:-//Intand Corporation//Tandem//EN
METHOD:PUBLISH
BEGIN:VEVENT
DTSTAMP:20260424T063512Z
DTSTART:20190814T204500Z
DTEND:20190814T230000Z
TRANSP:TRANSPARENT
PRIORITY:0
SUMMARY:LC - Kid's Zone PM
LOCATION:LCE Gym\, LCE Cafeteria
DESCRIPTION:Groups:\nKid's Zone Program\n\nSchools:\nDistrict Administrati
 on Center\nLewis And Clark Elementary\n\nLocations:\nLCE Gym\nLCE Cafeteri
 a\n\n
URL;VALUE=URI:http://liberty53.tandem.co/index.php?type=view&action=event&
 id=348019
CREATED:20190626T161004Z
LAST-MODIFIED:20190626T161004Z
UID:event_request-348019-liberty53@intand.com
END:VEVENT
END:VCALENDAR
