BEGIN:VCALENDAR
VERSION:2.0
PRODID:-//Intand Corporation//Tandem//EN
METHOD:PUBLISH
BEGIN:VEVENT
DTSTAMP:20260424T014923Z
DTSTART:20200205T230000Z
DTEND:20200206T010000Z
TRANSP:TRANSPARENT
PRIORITY:0
SUMMARY:LHS-10th BBB @ Home vs Lee Summit North
LOCATION:LHS Fieldhouse Gym
DESCRIPTION:Groups:\nLHS Boys Basketball Sophomore\n\nSchools:\nLiberty Hi
 gh School\n\nLocation:\nLHS Fieldhouse Gym\n\n
URL;VALUE=URI:http://liberty53.tandem.co/index.php?type=view&action=event&
 id=347432
CREATED:20190626T144210Z
LAST-MODIFIED:20190626T150152Z
UID:event-347432-liberty53@intand.com
END:VEVENT
END:VCALENDAR
