BEGIN:VCALENDAR
VERSION:2.0
PRODID:-//Intand Corporation//Tandem//EN
METHOD:PUBLISH
BEGIN:VEVENT
DTSTAMP:20260424T032241Z
DTSTART:20191014T203000Z
DTEND:20191015T045959Z
TRANSP:TRANSPARENT
PRIORITY:0
SUMMARY:LN MSoc C Gold vsRockhurst
LOCATION:LMS Soccer Complex
DESCRIPTION:Breakdown: TBD\n\nReturn: TBD\n\nGroups:\nLNHS Soccer - Boys C
 -Navy\nLNHS Soccer - Boys' C-Gold\n\nSchools:\nLiberty North High School\n
 \nLocation:\nLMS Soccer Complex\n\n
URL;VALUE=URI:http://liberty53.tandem.co/index.php?type=view&action=event&
 id=347271
CREATED:20190625T164102Z
LAST-MODIFIED:20190625T164102Z
UID:event-347271-liberty53@intand.com
END:VEVENT
END:VCALENDAR
