BEGIN:VCALENDAR
VERSION:2.0
PRODID:-//Intand Corporation//Tandem//EN
METHOD:PUBLISH
BEGIN:VEVENT
DTSTAMP:20260424T034945Z
DTSTART:20191030T113000Z
DTEND:20191030T133000Z
TRANSP:TRANSPARENT
PRIORITY:0
SUMMARY:DMS- Picture Retakes
LOCATION:DMS Cafeteria
DESCRIPTION:Groups:\nDMS Administrative Assistants\n\nSchools:\nDiscovery 
 Middle School\n\nLocation:\nDMS Cafeteria\n\n
URL;VALUE=URI:http://liberty53.tandem.co/index.php?type=view&action=event&
 id=347260
CREATED:20190625T162608Z
LAST-MODIFIED:20190625T163751Z
UID:event_request-347260-liberty53@intand.com
END:VEVENT
END:VCALENDAR
